BEGIN:VCALENDAR
VERSION:2.0
PRODID:-//Lean Construction Institute - Qatar (LCI-Q) - ECPv6.15.20//NONSGML v1.0//EN
CALSCALE:GREGORIAN
METHOD:PUBLISH
X-ORIGINAL-URL:https://lci.qa
X-WR-CALDESC:Events for Lean Construction Institute - Qatar (LCI-Q)
REFRESH-INTERVAL;VALUE=DURATION:PT1H
X-Robots-Tag:noindex
X-PUBLISHED-TTL:PT1H
BEGIN:VTIMEZONE
TZID:Europe/Moscow
BEGIN:STANDARD
TZOFFSETFROM:+0300
TZOFFSETTO:+0300
TZNAME:MSK
DTSTART:20190101T000000
END:STANDARD
END:VTIMEZONE
BEGIN:VEVENT
DTSTART;TZID=Europe/Moscow:20210709T130000
DTEND;TZID=Europe/Moscow:20210709T170000
DTSTAMP:20260423T091538
CREATED:20210617T051413Z
LAST-MODIFIED:20210617T051413Z
UID:27276-1625835600-1625850000@lci.qa
SUMMARY:vLCEP - (25 June to 06 August 2021\, Weekends) - Unit 3
DESCRIPTION:
URL:https://lci.qa/event/vlcep-25-june-to-06-august-2021-weekends-unit-3/
LOCATION:Online
CATEGORIES:vLCEP
END:VEVENT
BEGIN:VEVENT
DTSTART;TZID=Europe/Moscow:20210702T130000
DTEND;TZID=Europe/Moscow:20210702T170000
DTSTAMP:20260423T091538
CREATED:20210617T051226Z
LAST-MODIFIED:20210617T051327Z
UID:27274-1625230800-1625245200@lci.qa
SUMMARY:vLCEP - (25 June to 06 August 2021\, Weekends) - Unit 2
DESCRIPTION:
URL:https://lci.qa/event/vlcep-25-june-to-06-august-2021-weekends-unit-2/
LOCATION:Online
CATEGORIES:vLCEP
END:VEVENT
BEGIN:VEVENT
DTSTART;TZID=Europe/Moscow:20210630T130000
DTEND;TZID=Europe/Moscow:20210630T170000
DTSTAMP:20260423T091538
CREATED:20210617T045041Z
LAST-MODIFIED:20210617T045041Z
UID:27259-1625058000-1625072400@lci.qa
SUMMARY:vLCEP - (21-30 June 2021\, Weekdays) - Unit 7
DESCRIPTION:
URL:https://lci.qa/event/vlcep-21-30-june-2021-weekdays-unit-7/
LOCATION:Online
CATEGORIES:vLCEP
END:VEVENT
BEGIN:VEVENT
DTSTART;TZID=Europe/Moscow:20210629T130000
DTEND;TZID=Europe/Moscow:20210629T170000
DTSTAMP:20260423T091538
CREATED:20210617T044902Z
LAST-MODIFIED:20210617T044902Z
UID:27257-1624971600-1624986000@lci.qa
SUMMARY:vLCEP - (21-30 June 2021\, Weekdays) - Unit 6
DESCRIPTION:
URL:https://lci.qa/event/vlcep-21-30-june-2021-weekdays-unit-6/
LOCATION:Online
CATEGORIES:vLCEP
END:VEVENT
BEGIN:VEVENT
DTSTART;TZID=Europe/Moscow:20210628T130000
DTEND;TZID=Europe/Moscow:20210628T170000
DTSTAMP:20260423T091538
CREATED:20210617T044629Z
LAST-MODIFIED:20210617T045119Z
UID:27248-1624885200-1624899600@lci.qa
SUMMARY:vLCEP (21-30 June 2021\, Weekdays) - Unit 5
DESCRIPTION:
URL:https://lci.qa/event/vlcep-21-30-june-2021-weekdays-6/
LOCATION:Online
CATEGORIES:vLCEP
END:VEVENT
BEGIN:VEVENT
DTSTART;TZID=Europe/Moscow:20210627T130000
DTEND;TZID=Europe/Moscow:20210627T170000
DTSTAMP:20260423T091538
CREATED:20210617T043943Z
LAST-MODIFIED:20210617T045129Z
UID:27245-1624798800-1624813200@lci.qa
SUMMARY:vLCEP (21-30 June 2021\, Weekdays) - Unit 5
DESCRIPTION:
URL:https://lci.qa/event/vlcep-21-30-june-2021-weekdays-4/
LOCATION:Online
CATEGORIES:vLCEP
END:VEVENT
BEGIN:VEVENT
DTSTART;TZID=Europe/Moscow:20210625T130000
DTEND;TZID=Europe/Moscow:20210625T170000
DTSTAMP:20260423T091538
CREATED:20210617T050929Z
LAST-MODIFIED:20210617T051113Z
UID:27268-1624626000-1624640400@lci.qa
SUMMARY:vLCEP - (25 June to 06 August 2021\, Weekends) - Unit 1
DESCRIPTION:
URL:https://lci.qa/event/vlcep-25-june-to-06-august-2021-weekends-unit-1/
LOCATION:Online
CATEGORIES:vLCEP
END:VEVENT
BEGIN:VEVENT
DTSTART;TZID=Europe/Moscow:20210624T130000
DTEND;TZID=Europe/Moscow:20210624T170000
DTSTAMP:20260423T091538
CREATED:20210617T043748Z
LAST-MODIFIED:20210617T050720Z
UID:27243-1624539600-1624554000@lci.qa
SUMMARY:vLCEP (21-30 June 2021\, Weekdays) - Unit 4
DESCRIPTION:
URL:https://lci.qa/event/vlcep-21-30-june-2021-weekdays-3/
LOCATION:Online
CATEGORIES:vLCEP
END:VEVENT
BEGIN:VEVENT
DTSTART;TZID=Europe/Moscow:20210623T130000
DTEND;TZID=Europe/Moscow:20210623T170000
DTSTAMP:20260423T091538
CREATED:20210617T044131Z
LAST-MODIFIED:20210617T050640Z
UID:27246-1624453200-1624467600@lci.qa
SUMMARY:vLCEP (21-30 June 2021\, Weekdays) - Unit 3
DESCRIPTION:
URL:https://lci.qa/event/vlcep-21-30-june-2021-weekdays-5/
LOCATION:Online
CATEGORIES:vLCEP
END:VEVENT
BEGIN:VEVENT
DTSTART;TZID=Europe/Moscow:20210622T130000
DTEND;TZID=Europe/Moscow:20210622T170000
DTSTAMP:20260423T091538
CREATED:20210617T043528Z
LAST-MODIFIED:20210617T050651Z
UID:27241-1624366800-1624381200@lci.qa
SUMMARY:vLCEP (21-30 June 2021\, Weekdays) - Unit 2
DESCRIPTION:
URL:https://lci.qa/event/vlcep-21-30-june-2021-weekdays-2/
LOCATION:Online
CATEGORIES:vLCEP
END:VEVENT
BEGIN:VEVENT
DTSTART;TZID=Europe/Moscow:20210621T130000
DTEND;TZID=Europe/Moscow:20210621T170000
DTSTAMP:20260423T091538
CREATED:20210617T043428Z
LAST-MODIFIED:20210617T050706Z
UID:27237-1624280400-1624294800@lci.qa
SUMMARY:vLCEP (21-30 June 2021\, Weekdays) - Unit 1
DESCRIPTION:
URL:https://lci.qa/event/vlcep-21-30-june-2021-weekdays/
LOCATION:Online
CATEGORIES:vLCEP
END:VEVENT
BEGIN:VEVENT
DTSTART;TZID=Europe/Moscow:20201217T130000
DTEND;TZID=Europe/Moscow:20201217T200000
DTSTAMP:20260423T091538
CREATED:20201129T100312Z
LAST-MODIFIED:20201130T203338Z
UID:26747-1608210000-1608235200@lci.qa
SUMMARY:Virtual Lean Construction Education Program: Unit 7
DESCRIPTION:Register at: https://www.eventbrite.com/e/130577720477
URL:https://lci.qa/event/vlcep13-unit7/
CATEGORIES:vLCEP
END:VEVENT
BEGIN:VEVENT
DTSTART;TZID=Europe/Moscow:20201216T160000
DTEND;TZID=Europe/Moscow:20201216T200000
DTSTAMP:20260423T091538
CREATED:20201129T100220Z
LAST-MODIFIED:20201130T203333Z
UID:26745-1608134400-1608148800@lci.qa
SUMMARY:Virtual Lean Construction Education Program: Unit 6
DESCRIPTION:Register at: https://www.eventbrite.com/e/130577720477
URL:https://lci.qa/event/vlcep13-unit6/
CATEGORIES:vLCEP
END:VEVENT
BEGIN:VEVENT
DTSTART;TZID=Europe/Moscow:20201215T160000
DTEND;TZID=Europe/Moscow:20201215T200000
DTSTAMP:20260423T091538
CREATED:20201129T100138Z
LAST-MODIFIED:20201130T203327Z
UID:26743-1608048000-1608062400@lci.qa
SUMMARY:Virtual Lean Construction Education Program: Unit 5
DESCRIPTION:Register at: https://www.eventbrite.com/e/130577720477
URL:https://lci.qa/event/vlcep13-unit5-2/
CATEGORIES:vLCEP
END:VEVENT
BEGIN:VEVENT
DTSTART;TZID=Europe/Moscow:20201214T160000
DTEND;TZID=Europe/Moscow:20201214T200000
DTSTAMP:20260423T091538
CREATED:20201129T100050Z
LAST-MODIFIED:20201130T203322Z
UID:26741-1607961600-1607976000@lci.qa
SUMMARY:Virtual Lean Construction Education Program: Unit 5
DESCRIPTION:Register at: https://www.eventbrite.com/e/130577720477
URL:https://lci.qa/event/vlcep13-unit5/
CATEGORIES:vLCEP
END:VEVENT
BEGIN:VEVENT
DTSTART;TZID=Europe/Moscow:20201210T160000
DTEND;TZID=Europe/Moscow:20201210T200000
DTSTAMP:20260423T091538
CREATED:20201129T095959Z
LAST-MODIFIED:20201130T203317Z
UID:26739-1607616000-1607630400@lci.qa
SUMMARY:Virtual Lean Construction Education Program: Unit 4
DESCRIPTION:Register at: https://www.eventbrite.com/e/130577720477
URL:https://lci.qa/event/vlcep13-unit4/
CATEGORIES:vLCEP
END:VEVENT
BEGIN:VEVENT
DTSTART;TZID=Europe/Moscow:20201209T160000
DTEND;TZID=Europe/Moscow:20201209T200000
DTSTAMP:20260423T091538
CREATED:20201129T095917Z
LAST-MODIFIED:20201130T203311Z
UID:26737-1607529600-1607544000@lci.qa
SUMMARY:Virtual Lean Construction Education Program: Unit 3
DESCRIPTION:Register at: https://www.eventbrite.com/e/130577720477
URL:https://lci.qa/event/vlcep13-unit3/
CATEGORIES:vLCEP
END:VEVENT
BEGIN:VEVENT
DTSTART;TZID=Europe/Moscow:20201208T160000
DTEND;TZID=Europe/Moscow:20201208T200000
DTSTAMP:20260423T091538
CREATED:20201129T095836Z
LAST-MODIFIED:20201130T203305Z
UID:26735-1607443200-1607457600@lci.qa
SUMMARY:Virtual Lean Construction Education Program: Unit 2
DESCRIPTION:  \nRegister at: https://www.eventbrite.com/e/130577720477
URL:https://lci.qa/event/vlcep13-unit2/
CATEGORIES:vLCEP
END:VEVENT
BEGIN:VEVENT
DTSTART;TZID=Europe/Moscow:20201207T160000
DTEND;TZID=Europe/Moscow:20201207T200000
DTSTAMP:20260423T091538
CREATED:20201128T201027Z
LAST-MODIFIED:20201130T203016Z
UID:26726-1607356800-1607371200@lci.qa
SUMMARY:Virtual Lean Construction Education Program: Unit 1
DESCRIPTION:  \nRegister at: https://www.eventbrite.com/e/130577720477 \n 
URL:https://lci.qa/event/vlcep13-unit1/
CATEGORIES:vLCEP
END:VEVENT
END:VCALENDAR